BEGIN:VCALENDAR
VERSION:2.0
PRODID:-//RCCG King's Court - ECPv6.15.17.1//NONSGML v1.0//EN
CALSCALE:GREGORIAN
METHOD:PUBLISH
X-WR-CALNAME:RCCG King's Court
X-ORIGINAL-URL:https://kingscourtseattle.org
X-WR-CALDESC:Events for RCCG King's Court
REFRESH-INTERVAL;VALUE=DURATION:PT1H
X-Robots-Tag:noindex
X-PUBLISHED-TTL:PT1H
BEGIN:VTIMEZONE
TZID:America/Los_Angeles
BEGIN:DAYLIGHT
TZOFFSETFROM:-0800
TZOFFSETTO:-0700
TZNAME:PDT
DTSTART:20240310T100000
END:DAYLIGHT
BEGIN:STANDARD
TZOFFSETFROM:-0700
TZOFFSETTO:-0800
TZNAME:PST
DTSTART:20241103T090000
END:STANDARD
BEGIN:DAYLIGHT
TZOFFSETFROM:-0800
TZOFFSETTO:-0700
TZNAME:PDT
DTSTART:20250309T100000
END:DAYLIGHT
BEGIN:STANDARD
TZOFFSETFROM:-0700
TZOFFSETTO:-0800
TZNAME:PST
DTSTART:20251102T090000
END:STANDARD
BEGIN:DAYLIGHT
TZOFFSETFROM:-0800
TZOFFSETTO:-0700
TZNAME:PDT
DTSTART:20260308T100000
END:DAYLIGHT
BEGIN:STANDARD
TZOFFSETFROM:-0700
TZOFFSETTO:-0800
TZNAME:PST
DTSTART:20261101T090000
END:STANDARD
END:VTIMEZONE
BEGIN:VEVENT
DTSTART;TZID=America/Los_Angeles:20251018T183000
DTEND;TZID=America/Los_Angeles:20251018T210000
DTSTAMP:20260422T075959
CREATED:20251011T183337Z
LAST-MODIFIED:20251011T183651Z
UID:36054-1760812200-1760821200@kingscourtseattle.org
SUMMARY:Glorious Praise 2025
DESCRIPTION:Glorious Praise 2025\nHey there\, music lovers! Get ready to join us for Glorious Praise 2025. Immerse yourself in the divine atmosphere of God as Pastor FREKE UMOH (Halleluyah no go finish for my mouth o) and Minister KATE AYOMIDE lead us in an uplifting and soul-stirring musical experience. \nCome and experience the power of God in person as we celebrate together. Don’t miss this opportunity to be part of something truly special. Mark your calendars and get ready to experience His glory!
URL:https://kingscourtseattle.org/event/glorious-praise-2025/
LOCATION:Green River College\, 12401 SE 320th St.\, Auburn\, 98092\, United States
ATTACH;FMTTYPE=image/jpeg:https://kingscourtseattle.org/wp-content/uploads/2025/10/Freke38.jpeg
END:VEVENT
BEGIN:VEVENT
DTSTART;TZID=America/Los_Angeles:20251017T190000
DTEND;TZID=America/Los_Angeles:20251017T200000
DTSTAMP:20260422T075959
CREATED:20191207T203151Z
LAST-MODIFIED:20251016T044248Z
UID:6539-1760727600-1760731200@kingscourtseattle.org
SUMMARY:Friday Prayer Meetings
DESCRIPTION:
URL:https://kingscourtseattle.org/event/fridayprayers/
LOCATION:Zoom Online
CATEGORIES:Church Event,Weekly Event
ATTACH;FMTTYPE=image/jpeg:https://kingscourtseattle.org/wp-content/uploads/2023/09/prayer-night.jpeg
END:VEVENT
BEGIN:VEVENT
DTSTART;TZID=America/Los_Angeles:20251014T190000
DTEND;TZID=America/Los_Angeles:20251014T203000
DTSTAMP:20260422T075959
CREATED:20190802T120335Z
LAST-MODIFIED:20251014T172328Z
UID:208-1760468400-1760473800@kingscourtseattle.org
SUMMARY:Wednesday Bible Studies
DESCRIPTION:
URL:https://kingscourtseattle.org/event/biblestudies/
LOCATION:Zoom Online
CATEGORIES:Church Event,Weekly Event
ATTACH;FMTTYPE=image/jpeg:https://kingscourtseattle.org/wp-content/uploads/2023/09/digging-deep-e1696038060256.jpeg
END:VEVENT
BEGIN:VEVENT
DTSTART;TZID=America/Los_Angeles:20251012T040000
DTEND;TZID=America/Los_Angeles:20251012T053000
DTSTAMP:20260422T075959
CREATED:20251012T173013Z
LAST-MODIFIED:20251011T181945Z
UID:1464-1760241600-1760247000@kingscourtseattle.org
SUMMARY:Sunday Worship Service:11:00am - 12:30pm
DESCRIPTION:Join us for  worship service! \n\nSunday Worship Service  @ 11.00 a.m – 12.30 p.m.
URL:https://kingscourtseattle.org/event/sundayservice/
LOCATION:101 SW 41st Street Suite E\, Renton\, WA 98057\, 101 SW 41st Street\, Suite E\, Renton\, WA\, WA\, 98057\, United States
CATEGORIES:Church Event,Sunday
ATTACH;FMTTYPE=image/jpeg:https://kingscourtseattle.org/wp-content/uploads/2023/09/DSC00518-scaled-e1696041263357.jpg
END:VEVENT
END:VCALENDAR